BEGIN:VCALENDAR
VERSION:2.0
PRODID:-//Department Of Education//c91a1987-409e-44c3-829e-b8da387d7d94
BEGIN:VTIMEZONE
TZID:Australia/Sydney
TZURL:http://tzurl.org/zoneinfo-outlook/Australia/Sydney
X-LIC-LOCATION:Australia/Sydney
BEGIN:STANDARD
TZOFFSETFROM:+1100
TZOFFSETTO:+1000
TZNAME:AEST
DTSTART:19700405T030000
RRULE:FREQ=YEARLY;BYMONTH=4;BYDAY=1SU
END:STANDARD
BEGIN:DAYLIGHT
TZOFFSETFROM:+1000
TZOFFSETTO:+1100
TZNAME:AEDT
DTSTART:19701004T020000
RRULE:FREQ=YEARLY;BYMONTH=10;BYDAY=1SU
END:DAYLIGHT
END:VTIMEZONE
CALSCALE:GREGORIAN
X-WR-TIMEZONE:Australia/Sydney
BEGIN:VEVENT
DTSTART;TZID=Australia/Sydney:20200224T090021
DTEND;TZID=Australia/Sydney:20200226T150036
DTSTAMP:20200224T000000Z
UID:131a8b49-d1a2-48d6-abfd-1a1e1250fa4b
LOCATION:Outdoor Education Camp - Morisset
SUMMARY;LANGUAGE=en-us:Year 7 Camp
SEQUENCE:0
DESCRIPTION:Three days of fun-filled adventure!
END:VEVENT
TRANSP:TRANSPARENT
END:VCALENDAR
