BEGIN:VCALENDAR
VERSION:2.0
PRODID:-//Department Of Education//8d9691b9-65a4-47d5-8676-94bebae08443
BEGIN:VTIMEZONE
TZID:Australia/Sydney
TZURL:http://tzurl.org/zoneinfo-outlook/Australia/Sydney
X-LIC-LOCATION:Australia/Sydney
BEGIN:STANDARD
TZOFFSETFROM:+1100
TZOFFSETTO:+1000
TZNAME:AEST
DTSTART:19700405T030000
RRULE:FREQ=YEARLY;BYMONTH=4;BYDAY=1SU
END:STANDARD
BEGIN:DAYLIGHT
TZOFFSETFROM:+1000
TZOFFSETTO:+1100
TZNAME:AEDT
DTSTART:19701004T020000
RRULE:FREQ=YEARLY;BYMONTH=10;BYDAY=1SU
END:DAYLIGHT
END:VTIMEZONE
CALSCALE:GREGORIAN
X-WR-TIMEZONE:Australia/Sydney
BEGIN:VEVENT
DTSTART;TZID=Australia/Sydney:20200303T180000
DTEND;TZID=Australia/Sydney:20200303T200010
DTSTAMP:20200303T000000Z
UID:8de252c6-4846-4ba5-b3aa-d965cabd6611
LOCATION:Inner Sydney High School
SUMMARY;LANGUAGE=en-us:Meet and Greet for Year 7 students and parents
SEQUENCE:0
DESCRIPTION:A welcome night for Year 7 students and their families.
END:VEVENT
TRANSP:TRANSPARENT
END:VCALENDAR
